BEGIN:VCALENDAR
VERSION:2.0
PRODID:-//ChamberMaster//Event Calendar 2.0//EN
METHOD:PUBLISH
X-PUBLISHED-TTL:P1H
REFRESH-INTERVAL:P1H
CALSCALE:GREGORIAN
BEGIN:VTIMEZONE
TZID:America/Los_Angeles
BEGIN:DAYLIGHT
RRULE:FREQ=YEARLY;BYMONTH=3;BYDAY=2SU
DTSTART:20070101T000000
TZOFFSETFROM:-0800
TZOFFSETTO:-0700
TZNAME:Pacific Daylight Time
END:DAYLIGHT
BEGIN:STANDARD
RRULE:FREQ=YEARLY;BYMONTH=11;BYDAY=1SU
DTSTART:20070101T000000
TZOFFSETFROM:-0700
TZOFFSETTO:-0800
TZNAME:Pacific Standard Time
END:STANDARD
END:VTIMEZONE
BEGIN:VEVENT
DTSTART;TZID=America/Los_Angeles:20260423T104500
DTEND;TZID=America/Los_Angeles:20260423T123000
X-MICROSOFT-CDO-ALLDAYEVENT:FALSE
SUMMARY:HUB Conference Room Reservation
DESCRIPTION:PHILLIP SHU - 626-230-9655
X-ALT-DESC;FMTTYPE=text/html:<!DOCTYPE html><html><head><title></title></head><body aria-disabled="false"><p>PHILLIP SHU - 626-230-9655</p></body></html>
LOCATION:
UID:e.3394.1446617
SEQUENCE:3
DTSTAMP:20260424T080412Z
URL:https://members.wsgvr.org/conference-calendar/Details/hub-conference-room-reservation-1713391?sourceTypeId=Hub
END:VEVENT
END:VCALENDAR
