BEGIN:VCALENDAR
VERSION:2.0
PRODID:-//ChamberMaster//Event Calendar 2.0//EN
METHOD:PUBLISH
X-PUBLISHED-TTL:P1H
REFRESH-INTERVAL:P1H
CALSCALE:GREGORIAN
BEGIN:VTIMEZONE
TZID:America/Los_Angeles
BEGIN:DAYLIGHT
RRULE:FREQ=YEARLY;BYMONTH=3;BYDAY=2SU
DTSTART:20070101T000000
TZOFFSETFROM:-0800
TZOFFSETTO:-0700
TZNAME:Pacific Daylight Time
END:DAYLIGHT
BEGIN:STANDARD
RRULE:FREQ=YEARLY;BYMONTH=11;BYDAY=1SU
DTSTART:20070101T000000
TZOFFSETFROM:-0700
TZOFFSETTO:-0800
TZNAME:Pacific Standard Time
END:STANDARD
END:VTIMEZONE
BEGIN:VEVENT
DTSTART;TZID=America/Los_Angeles:20260512T160000
DTEND;TZID=America/Los_Angeles:20260512T165000
X-MICROSOFT-CDO-ALLDAYEVENT:FALSE
SUMMARY:Breathwork & Soundbath
DESCRIPTION:30 Spots Total. Unwind and reconnect with a slow\, intentional Kali Flow designed for all levels especially beginners. Move with your breath\, build strength\, and release tension in a supportive\, non-intimidating space. Finish with a restorative sound bath to help you fully relax\, reset\, and leave feeling grounded and renewed.
X-ALT-DESC;FMTTYPE=text/html:<!DOCTYPE html><html><head><title></title></head><body aria-disabled="false"><p>30 Spots Total.&nbsp\;</p><p>Unwind and reconnect with a slow\, intentional Kali Flow designed for all levels&mdash\;especially beginners. Move with your breath\, build strength\, and release tension in a supportive\, non-intimidating space. Finish with a restorative sound bath to help you fully relax\, reset\, and leave feeling grounded and renewed.</p></body></html>
LOCATION:315 N San Marino Ave\, San Gabriel\, CA 91775
UID:e.3394.1442554
SEQUENCE:3
DTSTAMP:20260424T080349Z
URL:https://members.wsgvr.org/conference-calendar/Details/breathwork-soundbath-1708588?sourceTypeId=Hub
END:VEVENT
END:VCALENDAR
